BEGIN:VCALENDAR
VERSION:2.0
PRODID:-//Good Measure - ECPv6.15.18//NONSGML v1.0//EN
CALSCALE:GREGORIAN
METHOD:PUBLISH
X-ORIGINAL-URL:https://goodmeasurenola.com
X-WR-CALDESC:Events for Good Measure
REFRESH-INTERVAL;VALUE=DURATION:PT1H
X-Robots-Tag:noindex
X-PUBLISHED-TTL:PT1H
BEGIN:VTIMEZONE
TZID:UTC
BEGIN:STANDARD
TZOFFSETFROM:+0000
TZOFFSETTO:+0000
TZNAME:UTC
DTSTART:20240101T000000
END:STANDARD
END:VTIMEZONE
BEGIN:VEVENT
DTSTART;TZID=UTC:20250411T203000
DTEND;TZID=UTC:20250411T220000
DTSTAMP:20260424T020108
CREATED:20250318T202452Z
LAST-MODIFIED:20250318T202452Z
UID:1906-1744403400-1744408800@goodmeasurenola.com
SUMMARY:French Quarter Fest After Dark Presents Big Sam's Funky Nation
DESCRIPTION:Big Sam’s Funky Nation brings their high-energy\, brass-driven funk to the stage\, blending New Orleans’ rich musical heritage with their signature sound. Get ready for an unforgettable night of grooves\, soul\, and infectious rhythm at Good Measure in partnership with French Quarter Fest After Dark!
URL:https://goodmeasurenola.com/event/french-quarter-fest-after-dark-presents-big-sams-funky-nation/
LOCATION:Good Measure\, 600 Carondelet St\, New Orleans\, LA\, 70130\, United States
CATEGORIES:Jazz Music,Music
ATTACH;FMTTYPE=image/webp:https://goodmeasurenola.com/wp-content/uploads/2025/11/IMG_1129.webp
END:VEVENT
END:VCALENDAR