BEGIN:VCALENDAR
VERSION:2.0
PRODID:-//Good Measure - ECPv6.15.18//NONSGML v1.0//EN
CALSCALE:GREGORIAN
METHOD:PUBLISH
X-WR-CALNAME:Good Measure
X-ORIGINAL-URL:https://goodmeasurenola.com
X-WR-CALDESC:Events for Good Measure
REFRESH-INTERVAL;VALUE=DURATION:PT1H
X-Robots-Tag:noindex
X-PUBLISHED-TTL:PT1H
BEGIN:VTIMEZONE
TZID:UTC
BEGIN:STANDARD
TZOFFSETFROM:+0000
TZOFFSETTO:+0000
TZNAME:UTC
DTSTART:20250101T000000
END:STANDARD
END:VTIMEZONE
BEGIN:VEVENT
DTSTART;TZID=UTC:20260424T210000
DTEND;TZID=UTC:20260425T000000
DTSTAMP:20260424T015244
CREATED:20260407T141914Z
LAST-MODIFIED:20260407T141914Z
UID:2690-1777064400-1777075200@goodmeasurenola.com
SUMMARY:Swinging in New Orleans featuring Stephen Walker
DESCRIPTION:
URL:https://goodmeasurenola.com/event/swinging-in-new-orleans-featuring-stephen-walker/
LOCATION:Good Measure\, 600 Carondelet St\, New Orleans\, LA\, 70130\, United States
ATTACH;FMTTYPE=image/png:https://goodmeasurenola.com/wp-content/uploads/2026/04/StephenWalker2.png
END:VEVENT
END:VCALENDAR