BEGIN:VCALENDAR
VERSION:2.0
PRODID:-//Good Measure - ECPv6.15.18//NONSGML v1.0//EN
CALSCALE:GREGORIAN
METHOD:PUBLISH
X-ORIGINAL-URL:https://goodmeasurenola.com
X-WR-CALDESC:Events for Good Measure
REFRESH-INTERVAL;VALUE=DURATION:PT1H
X-Robots-Tag:noindex
X-PUBLISHED-TTL:PT1H
BEGIN:VTIMEZONE
TZID:UTC
BEGIN:STANDARD
TZOFFSETFROM:+0000
TZOFFSETTO:+0000
TZNAME:UTC
DTSTART:20250101T000000
END:STANDARD
END:VTIMEZONE
BEGIN:VEVENT
DTSTART;TZID=UTC:20260115T203000
DTEND;TZID=UTC:20260115T230000
DTSTAMP:20260424T110409
CREATED:20251215T195252Z
LAST-MODIFIED:20260116T153401Z
UID:2450-1768509000-1768518000@goodmeasurenola.com
SUMMARY:Teaser Fest- Locals Only
DESCRIPTION:“LOCALS ONLY\, For Everyone” explores and supports the rich live music\, burlesque and variety acts that make New Orleans one of the global hubs of all of these art forms. Catch a slice of the immeasurable talent of the folks that call the Crescent City home; buskers to international stage stars\, enjoy and adore the multi-faceted performers that call New Orleans home!\nAppearances by Qween Quan and many more TBA.
URL:https://goodmeasurenola.com/event/teaser-fest-locals-only/
LOCATION:Good Measure\, 600 Carondelet St\, New Orleans\, LA\, 70130\, United States
CATEGORIES:Dance,Jazz Music,Late night party,Music
ATTACH;FMTTYPE=image/jpeg:https://goodmeasurenola.com/wp-content/uploads/2025/12/480699784_927464362917564_2650059189090457415_n.jpg
END:VEVENT
BEGIN:VEVENT
DTSTART;TZID=UTC:20260124T220000
DTEND;TZID=UTC:20260125T010000
DTSTAMP:20260424T110409
CREATED:20251231T175441Z
LAST-MODIFIED:20260116T153617Z
UID:2468-1769292000-1769302800@goodmeasurenola.com
SUMMARY:Pleasure Savior Presents: Don't Dance Don't Come w/DJ Nico + LVCD + Pell
DESCRIPTION:Party with us and DJ Pell\, DJ Nico and LVCD. Purchase tickets at the EventBrite link.
URL:https://goodmeasurenola.com/event/pleasure-savior-presents/
LOCATION:Good Measure\, 600 Carondelet St\, New Orleans\, LA\, 70130\, United States
CATEGORIES:Dance,Late night party,Music
ATTACH;FMTTYPE=image/png:https://goodmeasurenola.com/wp-content/uploads/2025/12/76ceedaa-7088-44f8-8824-0f0d4c85c633.png
END:VEVENT
END:VCALENDAR