BEGIN:VCALENDAR
VERSION:2.0
PRODID:-//Good Measure - ECPv6.15.18//NONSGML v1.0//EN
CALSCALE:GREGORIAN
METHOD:PUBLISH
X-ORIGINAL-URL:https://goodmeasurenola.com
X-WR-CALDESC:Events for Good Measure
REFRESH-INTERVAL;VALUE=DURATION:PT1H
X-Robots-Tag:noindex
X-PUBLISHED-TTL:PT1H
BEGIN:VTIMEZONE
TZID:UTC
BEGIN:STANDARD
TZOFFSETFROM:+0000
TZOFFSETTO:+0000
TZNAME:UTC
DTSTART:20240101T000000
END:STANDARD
END:VTIMEZONE
BEGIN:VEVENT
DTSTART;TZID=UTC:20260418T224500
DTEND;TZID=UTC:20260419T010000
DTSTAMP:20260420T144134
CREATED:20260416T140028Z
LAST-MODIFIED:20260416T140028Z
UID:2703-1776552300-1776560400@goodmeasurenola.com
SUMMARY:DJ Jess
DESCRIPTION:Keep the night going after Brass-a-Holics with a set from DJ Jess.
URL:https://goodmeasurenola.com/event/dj-jess/
LOCATION:Lobby\, 600 Carondelet\, New Orleans\, 70130\, United States
CATEGORIES:Dance,Late night party,Music
ATTACH;FMTTYPE=image/jpeg:https://goodmeasurenola.com/wp-content/uploads/2026/03/dj-jess.jpg
END:VEVENT
BEGIN:VEVENT
DTSTART;TZID=UTC:20260418T210000
DTEND;TZID=UTC:20260418T223000
DTSTAMP:20260420T144134
CREATED:20260311T191915Z
LAST-MODIFIED:20260311T192013Z
UID:2620-1776546000-1776551400@goodmeasurenola.com
SUMMARY:Brass-a-Holics
DESCRIPTION:Get ready for a night full of brass tunes and good vibes at Good Measure\, located inside The Barnett at 600 Carondelet St! \nJoin us on April 18\, 2026 at 9:00 PM for some awesome live music and fun with fellow brass lovers. Don’t miss out and let the beats keep you moving all night long! \nPurchase tickets on EventBrite- https://www.eventbrite.com/e/brass-a-holics-tickets-1984989441855?aff=oddtdtcreator
URL:https://goodmeasurenola.com/event/brass-a-holics/
LOCATION:Good Measure\, 600 Carondelet St\, New Orleans\, LA\, 70130\, United States
CATEGORIES:Dance,Jazz Music,Late night party,Music
ATTACH;FMTTYPE=image/jpeg:https://goodmeasurenola.com/wp-content/uploads/2026/03/DSC_3121-scaled.jpg
END:VEVENT
BEGIN:VEVENT
DTSTART;TZID=UTC:20260417T210000
DTEND;TZID=UTC:20260417T223000
DTSTAMP:20260420T144134
CREATED:20260311T191627Z
LAST-MODIFIED:20260311T191633Z
UID:2618-1776459600-1776465000@goodmeasurenola.com
SUMMARY:Big Sam's Funky Nation\, presented by French Quarter Fest After Dark
DESCRIPTION:See Big Sam’s Funky Nation with French Quarter Fest After Dark at Good Measure. Located inside The Barnett Hotel. \n\n\n\n\nBig Sam’s Funky Nation brings an electrifying New Orleans sound built on deep funk grooves\, blazing horns\, and high-energy showmanship. Led by trombonist and vocalist Big Sam Williams\, the band blends funk\, rock\, jazz\, and hip-hop into a powerhouse live performance that gets crowds dancing and singing along from the first note. \nFor French Quarter Fest’s After Dark series at Good Measure\, expect a late-night party fueled by bold brass\, infectious rhythms\, and the unmistakable spirit of New Orleans funk. \nPurchase tickets on EventBrite- https://www.eventbrite.com/e/french-quarter-fest-after-dark-with-big-sams-funky-nation-tickets-1984927907805?aff=oddtdtcreator
URL:https://goodmeasurenola.com/event/big-sams-funky-nation-presented-by-french-quarter-fest-after-dark/
LOCATION:Good Measure\, 600 Carondelet St\, New Orleans\, LA\, 70130\, United States
CATEGORIES:Dance,Jazz Music,Late night party,Music
ATTACH;FMTTYPE=image/webp:https://goodmeasurenola.com/wp-content/uploads/2025/11/IMG_1129.webp
END:VEVENT
BEGIN:VEVENT
DTSTART;TZID=UTC:20260415T190000
DTEND;TZID=UTC:20260415T220000
DTSTAMP:20260420T144134
CREATED:20260324T200734Z
LAST-MODIFIED:20260324T200734Z
UID:2644-1776279600-1776290400@goodmeasurenola.com
SUMMARY:DJ Spin Griffey- Wednesday After the Square
DESCRIPTION:Join us inside the Lobby at The Barnett for our Wednesday After the Square\, the official Afterparty location for YLC’s Wednesday at the Square. Entry is free!
URL:https://goodmeasurenola.com/event/dj-spin-griffey-wednesday-after-the-square/
LOCATION:Lobby\, 600 Carondelet\, New Orleans\, 70130\, United States
CATEGORIES:Dance,Late night party,Music
ATTACH;FMTTYPE=image/jpeg:https://goodmeasurenola.com/wp-content/uploads/2025/05/griffey.jpg
END:VEVENT
BEGIN:VEVENT
DTSTART;TZID=UTC:20260411T210000
DTEND;TZID=UTC:20260412T000000
DTSTAMP:20260420T144134
CREATED:20260401T195231Z
LAST-MODIFIED:20260407T135319Z
UID:2669-1775941200-1775952000@goodmeasurenola.com
SUMMARY:Charlie & The Tropicales
DESCRIPTION:
URL:https://goodmeasurenola.com/event/charlie-and-the-tropicales/
LOCATION:Good Measure\, 600 Carondelet St\, New Orleans\, LA\, 70130\, United States
CATEGORIES:Dance,Jazz Music,Late night party,Music
ATTACH;FMTTYPE=image/jpeg:https://goodmeasurenola.com/wp-content/uploads/2026/04/Charlie_Tropicales.6-piece-scaled.jpg
END:VEVENT
BEGIN:VEVENT
DTSTART;TZID=UTC:20260410T210000
DTEND;TZID=UTC:20260411T000000
DTSTAMP:20260420T144134
CREATED:20260401T194735Z
LAST-MODIFIED:20260407T135102Z
UID:2666-1775854800-1775865600@goodmeasurenola.com
SUMMARY:Aurélien Barnes
DESCRIPTION:
URL:https://goodmeasurenola.com/event/aurelien-barnes/
LOCATION:Good Measure\, 600 Carondelet St\, New Orleans\, LA\, 70130\, United States
CATEGORIES:Dance,Jazz Music,Late night party,Music
ATTACH;FMTTYPE=image/jpeg:https://goodmeasurenola.com/wp-content/uploads/2026/04/abarnes.jpg
END:VEVENT
BEGIN:VEVENT
DTSTART;TZID=UTC:20260408T190000
DTEND;TZID=UTC:20260408T220000
DTSTAMP:20260420T144134
CREATED:20260324T200405Z
LAST-MODIFIED:20260324T200405Z
UID:2642-1775674800-1775685600@goodmeasurenola.com
SUMMARY:Pellow Talk- Wednesday After the Square
DESCRIPTION:Join us inside the Lobby at The Barnett for our Wednesday After the Square\, the official Afterparty location for YLC’s Wednesday at the Square. Entry is free!
URL:https://goodmeasurenola.com/event/pellow-talk-wednesday-after-the-square-2/
LOCATION:Lobby\, 600 Carondelet\, New Orleans\, 70130\, United States
CATEGORIES:Dance,Late night party,Music
ATTACH;FMTTYPE=image/jpeg:https://goodmeasurenola.com/wp-content/uploads/2026/03/417419413_964496445054453_7538512564693721355_n.jpg
END:VEVENT
BEGIN:VEVENT
DTSTART;TZID=UTC:20260401T200000
DTEND;TZID=UTC:20260401T230000
DTSTAMP:20260420T144134
CREATED:20260324T200200Z
LAST-MODIFIED:20260324T200200Z
UID:2638-1775073600-1775084400@goodmeasurenola.com
SUMMARY:Pellow Talk- Wednesday After the Square
DESCRIPTION:Join us inside the Lobby at The Barnett for our Wednesday After the Square\, the official Afterparty location for YLC’s Wednesday at the Square. Entry is free!
URL:https://goodmeasurenola.com/event/pellow-talk-wednesday-after-the-square/
LOCATION:Lobby\, 600 Carondelet\, New Orleans\, 70130\, United States
CATEGORIES:Dance,Late night party,Music
ATTACH;FMTTYPE=image/jpeg:https://goodmeasurenola.com/wp-content/uploads/2026/03/417419413_964496445054453_7538512564693721355_n.jpg
END:VEVENT
BEGIN:VEVENT
DTSTART;TZID=UTC:20260325T190000
DTEND;TZID=UTC:20260325T220000
DTSTAMP:20260420T144134
CREATED:20260324T193832Z
LAST-MODIFIED:20260324T204727Z
UID:2635-1774465200-1774476000@goodmeasurenola.com
SUMMARY:Ghazi Gamali -Wednesday After the Square
DESCRIPTION:Join us inside the Lobby at The Barnett for our Wednesday After the Square\, the official Afterparty location for YLC’s Wednesday at the Square. Entry is free!
URL:https://goodmeasurenola.com/event/ghazi-gamali-wednesday-after-the-square/
LOCATION:Lobby\, 600 Carondelet\, New Orleans\, 70130\, United States
CATEGORIES:Dance,Late night party,Music
ATTACH;FMTTYPE=image/jpeg:https://goodmeasurenola.com/wp-content/uploads/2026/03/ghazi.jpg
END:VEVENT
BEGIN:VEVENT
DTSTART;TZID=UTC:20260214T230000
DTEND;TZID=UTC:20260215T010000
DTSTAMP:20260420T144134
CREATED:20260116T224536Z
LAST-MODIFIED:20260116T224853Z
UID:2484-1771110000-1771117200@goodmeasurenola.com
SUMMARY:Valentine's Day Post-Endymion Masquerade Party featuring The Rumble
DESCRIPTION:Valentine’s Day meets Carnival at Good Measure. Purchase tickets here on EventBrite.
URL:https://goodmeasurenola.com/event/valentines-day-post-endymion-masquerade-party-featuring-the-rumble/
LOCATION:Good Measure\, 600 Carondelet St\, New Orleans\, LA\, 70130\, United States
CATEGORIES:Dance,Jazz Music,Late night party,Music
ATTACH;FMTTYPE=image/jpeg:https://goodmeasurenola.com/wp-content/uploads/2026/01/d565697c-1c11-42cf-ab53-6a7b1dfcc899-scaled.jpeg
END:VEVENT
BEGIN:VEVENT
DTSTART;TZID=UTC:20260124T220000
DTEND;TZID=UTC:20260125T010000
DTSTAMP:20260420T144134
CREATED:20251231T175441Z
LAST-MODIFIED:20260116T153617Z
UID:2468-1769292000-1769302800@goodmeasurenola.com
SUMMARY:Pleasure Savior Presents: Don't Dance Don't Come w/DJ Nico + LVCD + Pell
DESCRIPTION:Party with us and DJ Pell\, DJ Nico and LVCD. Purchase tickets at the EventBrite link.
URL:https://goodmeasurenola.com/event/pleasure-savior-presents/
LOCATION:Good Measure\, 600 Carondelet St\, New Orleans\, LA\, 70130\, United States
CATEGORIES:Dance,Late night party,Music
ATTACH;FMTTYPE=image/png:https://goodmeasurenola.com/wp-content/uploads/2025/12/76ceedaa-7088-44f8-8824-0f0d4c85c633.png
END:VEVENT
BEGIN:VEVENT
DTSTART;TZID=UTC:20260115T203000
DTEND;TZID=UTC:20260115T230000
DTSTAMP:20260420T144134
CREATED:20251215T195252Z
LAST-MODIFIED:20260116T153401Z
UID:2450-1768509000-1768518000@goodmeasurenola.com
SUMMARY:Teaser Fest- Locals Only
DESCRIPTION:“LOCALS ONLY\, For Everyone” explores and supports the rich live music\, burlesque and variety acts that make New Orleans one of the global hubs of all of these art forms. Catch a slice of the immeasurable talent of the folks that call the Crescent City home; buskers to international stage stars\, enjoy and adore the multi-faceted performers that call New Orleans home!\nAppearances by Qween Quan and many more TBA.
URL:https://goodmeasurenola.com/event/teaser-fest-locals-only/
LOCATION:Good Measure\, 600 Carondelet St\, New Orleans\, LA\, 70130\, United States
CATEGORIES:Dance,Jazz Music,Late night party,Music
ATTACH;FMTTYPE=image/jpeg:https://goodmeasurenola.com/wp-content/uploads/2025/12/480699784_927464362917564_2650059189090457415_n.jpg
END:VEVENT
BEGIN:VEVENT
DTSTART;TZID=UTC:20251219T213000
DTEND;TZID=UTC:20251220T003000
DTSTAMP:20260420T144134
CREATED:20251126T202832Z
LAST-MODIFIED:20251209T211530Z
UID:2363-1766179800-1766190600@goodmeasurenola.com
SUMMARY:Damian Ch Album Release Party
DESCRIPTION:Join us for the anticipated album release of local Latin artist Damian Ch\, book tickets for entry here— https://www.damian-ch.com/santa-me-trajo-reggaeton \n  \nFrom the vibrant Veracruz\, Mexico\, Damian Ch emerges as a multifaceted force in the realm of Latin Urban Music. As a rapper\, composer\, and producer\, Damian Ch transcends boundaries\, crafting a sonic experience that pushes the envelope of innovation. The core of his artistic essence lies a profound connection with synthesized and futuristic sounds. He skillfully weaves together a tapestry of beats and melodies that serves as the foundation for his musical compositions. His sounds fearlessly blend elements of Hip-Hop\, Reggaeton\, House\, and Dancehall\, creating a genre-defying fusion that captivates new audiences. As Damian Ch marks his presence in the music scene\, he is committed to pushing the envelope and becoming the next icon in the Latin Urban Music genre.
URL:https://goodmeasurenola.com/event/damian-ch-album-release-party/
LOCATION:Good Measure\, 600 Carondelet St\, New Orleans\, LA\, 70130\, United States
CATEGORIES:Dance,Late night party,Music
ATTACH;FMTTYPE=image/jpeg:https://goodmeasurenola.com/wp-content/uploads/2025/11/damiench.jpeg
END:VEVENT
BEGIN:VEVENT
DTSTART;TZID=UTC:20251108T210000
DTEND;TZID=UTC:20251109T010000
DTSTAMP:20260420T144134
CREATED:20251029T201656Z
LAST-MODIFIED:20251029T201656Z
UID:2287-1762635600-1762650000@goodmeasurenola.com
SUMMARY:DJAliyuhh
DESCRIPTION:Feel the beats and dance the night away to local New Orleans DJ Aliyuhh Spins\, spinning bounce\, rap and techno\, showcasing her dynamic music influences. Entry is free.
URL:https://goodmeasurenola.com/event/djaliyuhh-6/
LOCATION:Good Measure\, 600 Carondelet St\, New Orleans\, LA\, 70130\, United States
CATEGORIES:Dance,Late night party,Music
ATTACH;FMTTYPE=image/jpeg:https://goodmeasurenola.com/wp-content/uploads/2025/09/djaliyuhhh.jpg
END:VEVENT
BEGIN:VEVENT
DTSTART;TZID=UTC:20251101T210000
DTEND;TZID=UTC:20251102T010000
DTSTAMP:20260420T144134
CREATED:20251029T201426Z
LAST-MODIFIED:20251029T201426Z
UID:2285-1762030800-1762045200@goodmeasurenola.com
SUMMARY:DJAliyuhh
DESCRIPTION:Feel the beats and dance the night away to local New Orleans DJ Aliyuhh Spins\, spinning bounce\, rap and techno\, showcasing her dynamic music influences. Entry is free.
URL:https://goodmeasurenola.com/event/djaliyuhh-5/
LOCATION:Good Measure\, 600 Carondelet St\, New Orleans\, LA\, 70130\, United States
CATEGORIES:Dance,Late night party,Music
ATTACH;FMTTYPE=image/jpeg:https://goodmeasurenola.com/wp-content/uploads/2025/09/djaliyuhhh.jpg
END:VEVENT
BEGIN:VEVENT
DTSTART;TZID=UTC:20251031T220000
DTEND;TZID=UTC:20251101T020000
DTSTAMP:20260420T144134
CREATED:20250923T220306Z
LAST-MODIFIED:20250923T220306Z
UID:2250-1761948000-1761962400@goodmeasurenola.com
SUMMARY:Soiree Halloween Party
DESCRIPTION:Come in your best costume and spook all night long\, featuring DJ FTK\, Legatron Prime and Pell. Entry is free!
URL:https://goodmeasurenola.com/event/soiree-halloween-party/
LOCATION:Good Measure\, 600 Carondelet St\, New Orleans\, LA\, 70130\, United States
CATEGORIES:Dance,Late night party,Music
ATTACH;FMTTYPE=image/webp:https://goodmeasurenola.com/wp-content/uploads/2025/09/halloween.webp
END:VEVENT
BEGIN:VEVENT
DTSTART;TZID=UTC:20251025T210000
DTEND;TZID=UTC:20251026T010000
DTSTAMP:20260420T144134
CREATED:20250923T215728Z
LAST-MODIFIED:20250923T215728Z
UID:2248-1761426000-1761440400@goodmeasurenola.com
SUMMARY:DJAliyuhh
DESCRIPTION:Feel the beats and dance the night away to local New Orleans DJ Aliyuhh Spins\, spinning bounce\, rap and techno\, showcasing her dynamic music influences. Entry is free.
URL:https://goodmeasurenola.com/event/djaliyuhh-4/
LOCATION:Good Measure\, 600 Carondelet St\, New Orleans\, LA\, 70130\, United States
CATEGORIES:Dance,Late night party,Music
ATTACH;FMTTYPE=image/jpeg:https://goodmeasurenola.com/wp-content/uploads/2025/09/djaliyuhhh.jpg
END:VEVENT
BEGIN:VEVENT
DTSTART;TZID=UTC:20251024T210000
DTEND;TZID=UTC:20251025T000000
DTSTAMP:20260420T144134
CREATED:20250923T215658Z
LAST-MODIFIED:20250924T202935Z
UID:2243-1761339600-1761350400@goodmeasurenola.com
SUMMARY:Jump Hounds
DESCRIPTION:Take in a free show with Jump Hounds! This New Orleans based band specializes in the jazz-based r&b and will get your moving to the rhythm of the city. \n 
URL:https://goodmeasurenola.com/event/jump-hounds/
LOCATION:Good Measure\, 600 Carondelet St\, New Orleans\, LA\, 70130\, United States
CATEGORIES:Dance,Jazz Music,Late night party
ATTACH;FMTTYPE=image/webp:https://goodmeasurenola.com/wp-content/uploads/2025/11/jumphjounds.webp
END:VEVENT
BEGIN:VEVENT
DTSTART;TZID=UTC:20251018T210000
DTEND;TZID=UTC:20251019T010000
DTSTAMP:20260420T144134
CREATED:20250923T215221Z
LAST-MODIFIED:20250923T215221Z
UID:2241-1760821200-1760835600@goodmeasurenola.com
SUMMARY:DJAliyuhh
DESCRIPTION:Feel the beats and dance the night away to local New Orleans DJ Aliyuhh Spins\, spinning bounce\, rap and techno\, showcasing her dynamic music influences. Entry is free.
URL:https://goodmeasurenola.com/event/djaliyuhh-3/
LOCATION:Good Measure\, 600 Carondelet St\, New Orleans\, LA\, 70130\, United States
CATEGORIES:Dance,Late night party,Music
ATTACH;FMTTYPE=image/jpeg:https://goodmeasurenola.com/wp-content/uploads/2025/09/djaliyuhhh.jpg
END:VEVENT
BEGIN:VEVENT
DTSTART;TZID=UTC:20251017T210000
DTEND;TZID=UTC:20251018T000000
DTSTAMP:20260420T144134
CREATED:20250923T213547Z
LAST-MODIFIED:20250924T153931Z
UID:2238-1760734800-1760745600@goodmeasurenola.com
SUMMARY:Alexey Marti
DESCRIPTION:Enjoy a free show with Afro-Cuban Jazz Percussionist Alexey Marti. Percussionist Alexey Marti brings the full set of Latin flavors to his unique style of Afro-Cuban jazz. He was born in Havana in 1985\, and began his musical journey by playing congas as part of his family’s Santeria religious services. He also studied with the legendary vocalist and percussionist Oscar Valdez\, a member of the Afro-Cuban fusion supergroup Irakere and a pioneer in the use of traditional bata drums in contemporary Cuban jazz. \nAlexey Marti arrived in New Orleans in 2008\, and began studying jazz composition with Victor “Red” Atkins III and Ed Petersen at the University of New Orleans. There he met several of the musicians with whom he performs and records\, including pianist Oscar Rossignoli and saxophonist Brent Rose. He has become a staple on the local club scene and a headliner at the New Orleans Jazz and Heritage Festival and other prominent events. \nHis 2017 debut album\, “Travesia” was met with critical acclaim. He began traveling around the world\, composing and recording in Spain\, Brazil\, Puerto Rico\, Cuba\, New York\, and Miami. The results can be heard on his 2018 CD “Mundo\,” a work that incorporates bossa nova\, salsa\, samba\, and ballads with contemporary and traditional rhythms. \nIn addition to Rossignoli and Rose\, Marti also can be heard performing with Pat Casey\, Gabriel Velazco\, The New Orleans Jazz Orchestra\, Timothy Morris and others.
URL:https://goodmeasurenola.com/event/alexey-marti/
LOCATION:Good Measure\, 600 Carondelet St\, New Orleans\, LA\, 70130\, United States
CATEGORIES:Dance,Late night party,Music
ATTACH;FMTTYPE=image/jpeg:https://goodmeasurenola.com/wp-content/uploads/2025/09/alexey-marti.jpg
END:VEVENT
BEGIN:VEVENT
DTSTART;TZID=UTC:20251011T210000
DTEND;TZID=UTC:20251012T010000
DTSTAMP:20260420T144134
CREATED:20250923T212358Z
LAST-MODIFIED:20251009T201334Z
UID:2230-1760216400-1760230800@goodmeasurenola.com
SUMMARY:DJAliyuhh
DESCRIPTION:Feel the beats and dance the night away to local New Orleans DJ Aliyuhh Spins\, spinning bounce\, rap and techno\, showcasing her dynamic music influences. Entry is free.
URL:https://goodmeasurenola.com/event/djaliyuhh/
LOCATION:Good Measure\, 600 Carondelet St\, New Orleans\, LA\, 70130\, United States
CATEGORIES:Dance,Late night party,Music
ATTACH;FMTTYPE=image/jpeg:https://goodmeasurenola.com/wp-content/uploads/2025/09/djaliyuhhh.jpg
END:VEVENT
BEGIN:VEVENT
DTSTART;TZID=UTC:20251004T210000
DTEND;TZID=UTC:20251005T010000
DTSTAMP:20260420T144134
CREATED:20250923T212442Z
LAST-MODIFIED:20250923T212442Z
UID:2234-1759611600-1759626000@goodmeasurenola.com
SUMMARY:DJAliyuhh
DESCRIPTION:Feel the beats and dance the night away to local New Orleans DJ Aliyuhh Spins\, spinning bounce\, rap and techno\, showcasing her dynamic music influences. Entry is free.
URL:https://goodmeasurenola.com/event/djaliyuhh-2/
LOCATION:Good Measure\, 600 Carondelet St\, New Orleans\, LA\, 70130\, United States
CATEGORIES:Dance,Late night party,Music
ATTACH;FMTTYPE=image/jpeg:https://goodmeasurenola.com/wp-content/uploads/2025/09/djaliyuhhh.jpg
END:VEVENT
BEGIN:VEVENT
DTSTART;TZID=UTC:20250517T230000
DTEND;TZID=UTC:20250518T010000
DTSTAMP:20260420T144134
CREATED:20250514T213526Z
LAST-MODIFIED:20250514T213526Z
UID:2128-1747522800-1747530000@goodmeasurenola.com
SUMMARY:DJ Santero
DESCRIPTION:Move to the lobby of The Barnett after La Noche Caliente for a live set from DJ Santero\, New Orleans’ premier Latin DJ.
URL:https://goodmeasurenola.com/event/dj-santero-2/
LOCATION:Good Measure\, 600 Carondelet St\, New Orleans\, LA\, 70130\, United States
CATEGORIES:Late night party,Music
ATTACH;FMTTYPE=image/jpeg:https://goodmeasurenola.com/wp-content/uploads/2025/11/fstopes120923-55-Erick-Santero.jpeg
END:VEVENT
BEGIN:VEVENT
DTSTART;TZID=UTC:20250430T200000
DTEND;TZID=UTC:20250430T213000
DTSTAMP:20260420T144134
CREATED:20250407T204836Z
LAST-MODIFIED:20250407T204836Z
UID:2005-1746043200-1746048600@goodmeasurenola.com
SUMMARY:WATS Afterparty with Mikey Offline
DESCRIPTION:Join us for fun and big vibes at High Five rooftop pool and bar\, the official location for Wednesday at the Square Afterparty! Learn more about Mikey Offline on his Instagram. Entry is free. Swimming is optional.
URL:https://goodmeasurenola.com/event/wats-afterparty-with-mikey-offline/
LOCATION:Good Measure\, 600 Carondelet St\, New Orleans\, LA\, 70130\, United States
CATEGORIES:Late night party,Music
ATTACH;FMTTYPE=image/webp:https://goodmeasurenola.com/wp-content/uploads/2025/11/The-Barnett-New-Orleans-Rooftop-Bar-scaled.webp
END:VEVENT
BEGIN:VEVENT
DTSTART;TZID=UTC:20250419T230000
DTEND;TZID=UTC:20250420T010000
DTSTAMP:20260420T144134
CREATED:20250409T190936Z
LAST-MODIFIED:20250409T190936Z
UID:2032-1745103600-1745110800@goodmeasurenola.com
SUMMARY:DJ Santero
DESCRIPTION:Move to the lobby of The Barnett after La Noche Caliente for a live set from DJ Santero\, New Orleans’ premier Latin DJ.
URL:https://goodmeasurenola.com/event/dj-santero/
LOCATION:Good Measure\, 600 Carondelet St\, New Orleans\, LA\, 70130\, United States
CATEGORIES:Late night party,Music
ATTACH;FMTTYPE=image/jpeg:https://goodmeasurenola.com/wp-content/uploads/2025/11/fstopes120923-55-Erick-Santero.jpeg
END:VEVENT
BEGIN:VEVENT
DTSTART;TZID=UTC:20250329T220000
DTEND;TZID=UTC:20250330T010000
DTSTAMP:20260420T144134
CREATED:20250207T183042Z
LAST-MODIFIED:20250326T154617Z
UID:1855-1743285600-1743296400@goodmeasurenola.com
SUMMARY:DJ Madd Spinnz
DESCRIPTION:Local artist DJ Madd Spinnz brings her lively set to the hotel lobby of The Barnett Hotel\, lobby bar available. Learn more about the artist on Instagram.
URL:https://goodmeasurenola.com/event/more-more-w-madd-spinnz/
LOCATION:Good Measure\, 600 Carondelet St\, New Orleans\, LA\, 70130\, United States
CATEGORIES:Late night party,Music
ATTACH;FMTTYPE=image/jpeg:https://goodmeasurenola.com/wp-content/uploads/2025/02/madspinnz.jpg
END:VEVENT
BEGIN:VEVENT
DTSTART;TZID=UTC:20250328T220000
DTEND;TZID=UTC:20250329T010000
DTSTAMP:20260420T144134
CREATED:20250207T174051Z
LAST-MODIFIED:20250207T184744Z
UID:1848-1743199200-1743210000@goodmeasurenola.com
SUMMARY:more & more: Raj Smoove
DESCRIPTION:Feel the beats from DJ Raj Smoove inside The Barnett Hotel lobby\, lobby bar available.
URL:https://goodmeasurenola.com/event/more-more-raj-smoove/
LOCATION:Good Measure\, 600 Carondelet St\, New Orleans\, LA\, 70130\, United States
CATEGORIES:Late night party,Music
ATTACH;FMTTYPE=image/jpeg:https://goodmeasurenola.com/wp-content/uploads/2025/02/rj.jpg
END:VEVENT
BEGIN:VEVENT
DTSTART;TZID=UTC:20250328T203000
DTEND;TZID=UTC:20250328T220000
DTSTAMP:20260420T144134
CREATED:20250207T173036Z
LAST-MODIFIED:20250211T194721Z
UID:1845-1743193800-1743199200@goodmeasurenola.com
SUMMARY:for Good Measure: Brass-a-holics
DESCRIPTION:Enjoy live jazz from top local band Brass-a-Holics. Brass-a-Holics bring the unstoppable energy of New Orleans brass band tradition\, fusing it with jazz\, funk\, and a modern groove that keeps the crowd moving. Known for their high-energy performances\, this dynamic group delivers a live music experience that embodies the soul of the city.
URL:https://goodmeasurenola.com/event/for-good-measure-brass-a-holics-3/
LOCATION:Good Measure\, 600 Carondelet St\, New Orleans\, LA\, 70130\, United States
CATEGORIES:Jazz Music,Late night party,Music
ATTACH;FMTTYPE=image/jpeg:https://goodmeasurenola.com/wp-content/uploads/2025/02/bh.jpg
END:VEVENT
BEGIN:VEVENT
DTSTART;TZID=UTC:20250327T190000
DTEND;TZID=UTC:20250327T220000
DTSTAMP:20260420T144134
CREATED:20250207T171859Z
LAST-MODIFIED:20250326T154115Z
UID:1843-1743102000-1743112800@goodmeasurenola.com
SUMMARY:In the Lobby w/ DJ P.U.D.G.E.
DESCRIPTION:Enjoy fresh beats from local artist DJ P.U.D.G.E. inside our intimate music club Good Measure\, located in the hotel lobby\, bar available.
URL:https://goodmeasurenola.com/event/in-the-lobby-w-dj-p-u-d-g-e-2/
LOCATION:Good Measure\, 600 Carondelet St\, New Orleans\, LA\, 70130\, United States
CATEGORIES:Late night party,Music
ATTACH;FMTTYPE=image/webp:https://goodmeasurenola.com/wp-content/uploads/2025/02/Untitled-design-PUDGE-Stanley.webp
END:VEVENT
BEGIN:VEVENT
DTSTART;TZID=UTC:20250322T220000
DTEND;TZID=UTC:20250323T010000
DTSTAMP:20260420T144134
CREATED:20250207T175016Z
LAST-MODIFIED:20250207T184643Z
UID:1851-1742680800-1742691600@goodmeasurenola.com
SUMMARY:more & more w/ DJ FTK & Friends
DESCRIPTION:DJ FTK & Friends grace the hotel lobby with a live set\, lobby bar available.
URL:https://goodmeasurenola.com/event/more-more-w-dj-ftk-friends-2/
LOCATION:Good Measure\, 600 Carondelet St\, New Orleans\, LA\, 70130\, United States
CATEGORIES:Late night party,Music
ATTACH;FMTTYPE=image/jpeg:https://goodmeasurenola.com/wp-content/uploads/2025/01/barnett-logo.jpg
END:VEVENT
END:VCALENDAR