BEGIN:VCALENDAR
VERSION:2.0
PRODID:-//Good Measure - ECPv6.15.18//NONSGML v1.0//EN
CALSCALE:GREGORIAN
METHOD:PUBLISH
X-WR-CALNAME:Good Measure
X-ORIGINAL-URL:https://goodmeasurenola.com
X-WR-CALDESC:Events for Good Measure
REFRESH-INTERVAL;VALUE=DURATION:PT1H
X-Robots-Tag:noindex
X-PUBLISHED-TTL:PT1H
BEGIN:VTIMEZONE
TZID:UTC
BEGIN:STANDARD
TZOFFSETFROM:+0000
TZOFFSETTO:+0000
TZNAME:UTC
DTSTART:20240101T000000
END:STANDARD
END:VTIMEZONE
BEGIN:VEVENT
DTSTART;TZID=UTC:20250228T220000
DTEND;TZID=UTC:20250301T010000
DTSTAMP:20260424T082015
CREATED:20250129T205110Z
LAST-MODIFIED:20250131T142555Z
UID:1783-1740780000-1740790800@goodmeasurenola.com
SUMMARY:more & more w/ DJ Raj Smoove
DESCRIPTION:The Barnett’s signature lobby afterparty. DJ Raj Smoove keeps the night going after the show in Good Measure.
URL:https://goodmeasurenola.com/event/more-more-w-dj-raj-smoove/
LOCATION:Lobby\, 600 Carondelet\, New Orleans\, 70130\, United States
CATEGORIES:Late night party
ATTACH;FMTTYPE=image/jpeg:https://goodmeasurenola.com/wp-content/uploads/2025/01/barnett-logo.jpg
END:VEVENT
BEGIN:VEVENT
DTSTART;TZID=UTC:20250227T190000
DTEND;TZID=UTC:20250227T220000
DTSTAMP:20260424T082015
CREATED:20250220T160718Z
LAST-MODIFIED:20250220T160718Z
UID:1879-1740682800-1740693600@goodmeasurenola.com
SUMMARY:In the Lobby w/ DJ P.U.D.G.E.
DESCRIPTION:The Barnett’s signature lobby party. DJ P.U.D.G.E. keeps the night going after the show in Good Measure.
URL:https://goodmeasurenola.com/event/in-the-lobby-w-dj-p-u-d-g-e-3/
LOCATION:Lobby\, 600 Carondelet\, New Orleans\, 70130\, United States
CATEGORIES:Late night party,Music
END:VEVENT
BEGIN:VEVENT
DTSTART;TZID=UTC:20250222T220000
DTEND;TZID=UTC:20250223T010000
DTSTAMP:20260424T082015
CREATED:20250129T203916Z
LAST-MODIFIED:20250129T203916Z
UID:1775-1740261600-1740272400@goodmeasurenola.com
SUMMARY:more & more w/ DJ FTK & Friends
DESCRIPTION:The Barnett’s signature lobby afterparty. DJ FTK & Friends keep the night going after the show in Good Measure.
URL:https://goodmeasurenola.com/event/more-more-w-dj-ftk-friends/
LOCATION:Lobby\, 600 Carondelet\, New Orleans\, 70130\, United States
CATEGORIES:Late night party
ATTACH;FMTTYPE=image/jpeg:https://goodmeasurenola.com/wp-content/uploads/2025/01/barnett-logo.jpg
END:VEVENT
BEGIN:VEVENT
DTSTART;TZID=UTC:20250208T210000
DTEND;TZID=UTC:20250209T010000
DTSTAMP:20260424T082015
CREATED:20250129T193325Z
LAST-MODIFIED:20250129T193325Z
UID:1741-1739048400-1739062800@goodmeasurenola.com
SUMMARY:Tropi Papi at Good Measure
DESCRIPTION:Tropi Papi takes you on a world tour of global African\, Middle-Eastern\, and South American disco dance music.
URL:https://goodmeasurenola.com/event/tropi-papi-at-good-measure-2/
LOCATION:Good Measure\, 600 Carondelet St\, New Orleans\, LA\, 70130\, United States
CATEGORIES:Late night party
ATTACH;FMTTYPE=image/webp:https://goodmeasurenola.com/wp-content/uploads/2025/01/Tropi-Barnet-Still-3-otto-orellana.webp
END:VEVENT
END:VCALENDAR